Description de la base de données<\/b><\/div>PLANIGN est un ensemble de cartes numériques raster (format image) couvrant l\u2019ensemble des départements français. Cet ensemble couvre 12 niveaux de zoom avec une charte graphique homogène pour l\u2019ensemble de ces niveaux. On utilise également le terme de « pyramide d\u2019images » pour décrire cet ensemble. Ces niveaux sont numérotés de 8 à 19. PLANIGN est une collection pyramidale d'images cartographiques numériques en couleurs, obtenues par rastérisation de bases de données de l'IGN . Le produit PLANIGN bénéficie donc de la richesse et de la précision du contenu des bases de données, en particulier la base de données unifiée du Référentiel à Grande Échelle (RGE®) dont le bâti différencié, les adresses, les sentiers, les toponymes, les points d\u2019intérêt, \u2026<\/div>",
"mapName": "REF_PLAN_IGN_NB",
"description": "Fond de carte Plan IGN en Noir et Blanc. Ce fond de carte est celui proposé par défaut dans l'ensemble des applications SIGOrigine ou Source : IGNDate de construction :Actualité : Dec. 2024Précision :Système de référence : RGF93-CC49 (3949)Contact : contact.geoservices@ign.frExhaustivité géographique : SQY et environsDescription de la base de donnéesPLANIGN est un ensemble de cartes numériques raster (format image) couvrant l\u2019ensemble des départements français. Cet ensemble couvre 12 niveaux de zoom avec une charte graphique homogène pour l\u2019ensemble de ces niveaux. On utilise également le terme de « pyramide d\u2019images » pour décrire cet ensemble. Ces niveaux sont numérotés de 8 à 19. PLANIGN est une collection pyramidale d'images cartographiques numériques en couleurs, obtenues par rastérisation de bases de données de l'IGN . Le produit PLANIGN bénéficie donc de la richesse et de la précision du contenu des bases de données, en particulier la base de données unifiée du Référentiel à Grande Échelle (RGE®) dont le bâti différencié, les adresses, les sentiers, les toponymes, les points d\u2019intérêt, \u2026",
"copyrightText": "Institut national de l'information géographique et forestière (IGN-F) ",
"supportsDynamicLayers": true,
"layers": [
{
"id": 0,
"name": "Plan IGN",
"parentLayerId": -1,
"defaultVisibility": true,
"subLayerIds": [
1,
2,
3,
4,
5
],
"minScale": 0,
"maxScale": 0,
"type": "Group Layer",
"supportsDynamicLegends": false
},
{
"id": 1,
"name": "PLAN_IGN_L19",
"parentLayerId": 0,
"defaultVisibility": true,
"subLayerIds": null,
"minScale": 1499,
"maxScale": 0,
"type": "Raster Layer",
"supportsDynamicLegends": true
},
{
"id": 2,
"name": "PLAN_IGN_L18",
"parentLayerId": 0,
"defaultVisibility": true,
"subLayerIds": null,
"minScale": 2999,
"maxScale": 1500,
"type": "Raster Layer",
"supportsDynamicLegends": true
},
{
"id": 3,
"name": "PLAN_IGN_L17",
"parentLayerId": 0,
"defaultVisibility": true,
"subLayerIds": null,
"minScale": 5999,
"maxScale": 3000,
"type": "Raster Layer",
"supportsDynamicLegends": true
},
{
"id": 4,
"name": "PLAN_IGN_L16",
"parentLayerId": 0,
"defaultVisibility": true,
"subLayerIds": null,
"minScale": 12500,
"maxScale": 6000,
"type": "Raster Layer",
"supportsDynamicLegends": true
},
{
"id": 5,
"name": "PLAN_IGN_L15",
"parentLayerId": 0,
"defaultVisibility": true,
"subLayerIds": null,
"minScale": 0,
"maxScale": 12501,
"type": "Raster Layer",
"supportsDynamicLegends": true
}
],
"tables": [],
"spatialReference": {
"wkid": 3949,
"latestWkid": 3949,
"xyTolerance": 0.001,
"zTolerance": 0.001,
"mTolerance": 0.001,
"falseX": -34427400,
"falseY": -22373000,
"xyUnits": 10000,
"falseZ": -100000,
"zUnits": 10000,
"falseM": -100000,
"mUnits": 10000
},
"singleFusedMapCache": true,
"tileInfo": {
"rows": 256,
"cols": 256,
"dpi": 96,
"format": "MIXED",
"compressionQuality": 75,
"origin": {
"x": -34427400,
"y": 49881800
},
"spatialReference": {
"wkid": 3949,
"latestWkid": 3949,
"xyTolerance": 0.001,
"zTolerance": 0.001,
"mTolerance": 0.001,
"falseX": -34427400,
"falseY": -22373000,
"xyUnits": 1.2465883587998292E8,
"falseZ": -100000,
"zUnits": 10000,
"falseM": -100000,
"mUnits": 10000
},
"lods": [
{
"level": 0,
"resolution": 23.812547625095252,
"scale": 90000
},
{
"level": 1,
"resolution": 22.48962831258996,
"scale": 85000
},
{
"level": 2,
"resolution": 21.16670900008467,
"scale": 80000
},
{
"level": 3,
"resolution": 19.843789687579378,
"scale": 75000
},
{
"level": 4,
"resolution": 18.520870375074086,
"scale": 70000
},
{
"level": 5,
"resolution": 17.197951062568794,
"scale": 65000
},
{
"level": 6,
"resolution": 15.875031750063501,
"scale": 60000
},
{
"level": 7,
"resolution": 14.55211243755821,
"scale": 55000
},
{
"level": 8,
"resolution": 13.229193125052918,
"scale": 50000
},
{
"level": 9,
"resolution": 11.906273812547626,
"scale": 45000
},
{
"level": 10,
"resolution": 10.583354500042335,
"scale": 40000
},
{
"level": 11,
"resolution": 9.260435187537043,
"scale": 35000
},
{
"level": 12,
"resolution": 7.9375158750317505,
"scale": 30000
},
{
"level": 13,
"resolution": 6.614596562526459,
"scale": 25000
},
{
"level": 14,
"resolution": 5.291677250021167,
"scale": 20000
},
{
"level": 15,
"resolution": 3.9687579375158752,
"scale": 15000
},
{
"level": 16,
"resolution": 2.6458386250105836,
"scale": 10000
},
{
"level": 17,
"resolution": 1.9843789687579376,
"scale": 7500
},
{
"level": 18,
"resolution": 1.3229193125052918,
"scale": 5000
},
{
"level": 19,
"resolution": 1.0583354500042335,
"scale": 4000
},
{
"level": 20,
"resolution": 0.6614596562526459,
"scale": 2500
},
{
"level": 21,
"resolution": 0.5291677250021167,
"scale": 2000
},
{
"level": 22,
"resolution": 0.39687579375158755,
"scale": 1500
},
{
"level": 23,
"resolution": 0.26458386250105836,
"scale": 1000
},
{
"level": 24,
"resolution": 0.19843789687579377,
"scale": 750
},
{
"level": 25,
"resolution": 0.13229193125052918,
"scale": 500
},
{
"level": 26,
"resolution": 0.0793751587503175,
"scale": 300
},
{
"level": 27,
"resolution": 0.05291677250021167,
"scale": 200
},
{
"level": 28,
"resolution": 0.026458386250105836,
"scale": 100
}
]
},
"storageInfo": {
"storageFormat": "esriMapCacheStorageModeCompactV2",
"packetSize": 128
},
"initialExtent": {
"xmin": 1612435.2581162355,
"ymin": 8162799.991033892,
"xmax": 1640809.715338347,
"ymax": 8194249.079843539,
"spatialReference": {
"wkid": 3949,
"latestWkid": 3949,
"xyTolerance": 0.001,
"zTolerance": 0.001,
"mTolerance": 0.001,
"falseX": -34427400,
"falseY": -22373000,
"xyUnits": 10000,
"falseZ": -100000,
"zUnits": 10000,
"falseM": -100000,
"mUnits": 10000
}
},
"fullExtent": {
"xmin": 1609983.6049147025,
"ymin": 8162223.239258468,
"xmax": 1640001.8369913548,
"ymax": 8192242.439286433,
"spatialReference": {
"wkid": 3949,
"latestWkid": 3949,
"xyTolerance": 0.001,
"zTolerance": 0.001,
"mTolerance": 0.001,
"falseX": -34427400,
"falseY": -22373000,
"xyUnits": 10000,
"falseZ": -100000,
"zUnits": 10000,
"falseM": -100000,
"mUnits": 10000
}
},
"datesInUnknownTimezone": false,
"minScale": 90000,
"maxScale": 200,
"minLOD": 0,
"maxLOD": 27,
"units": "esriMeters",
"supportedImageFormatTypes": "PNG32,PNG24,PNG,JPG,DIB,TIFF,EMF,PS,PDF,GIF,SVG,SVGZ,BMP",
"documentInfo": {
"Title": "REF_PLAN_IGN_NB",
"Author": "",
"Comments": "",
"Subject": "",
"Category": "",
"Version": "3.3.0",
"AntialiasingMode": "Fast",
"TextAntialiasingMode": "Force",
"Keywords": "sqy,référentiels,ign,raster"
},
"supportsQueryDomains": true,
"capabilities": "Map,Query,Data",
"supportedQueryFormats": "JSON, geoJSON, PBF",
"exportTilesAllowed": false,
"referenceScale": 0.0,
"supportsDatumTransformation": true,
"archivingInfo": {"supportsHistoricMoment": false},
"supportsClipping": true,
"supportsSpatialFilter": true,
"supportsTimeRelation": true,
"supportsQueryDataElements": true,
"mapUnits": {"uwkid": 9001},
"maxRecordCount": 2000,
"maxImageHeight": 4096,
"maxImageWidth": 4096,
"supportedExtensions": "WMSServer",
"resampling": false,
"serviceItemId": "ad99744654704ff8bb95240e52209394"
}