{ "currentVersion": 11.3, "cimVersion": "3.3.0", "serviceDescription": "
Informations générales de la classe d'entité<\/span><\/p> Origine ou Source : SQY<\/span><\/p><\/li> Date de construction : 2000<\/span><\/p><\/li> Actualité : Juiullet 2024<\/span><\/p><\/li> Précision : 50 000<\/span><\/p><\/li> Système de référence : RGF93-CC49<\/span><\/p><\/li> Contact : Dir. des Mobilités<\/span><\/p><\/li> Exhaustivité géographique : SQY et environs<\/span><\/p><\/li><\/ul><\/div><\/div><\/div>",
"mapName": "MOB_PLAN_BUS_PMR_2022",
"description": "Informations générales de la classe d'entitéOrigine ou Source : SQYDate de construction : 2000Actualité : Juiullet 2024Précision : 50 000Système de référence : RGF93-CC49Contact : Dir. des MobilitésExhaustivité géographique : SQY et environs",
"copyrightText": "Saint-Quentin-en-Yvelines",
"supportsDynamicLayers": true,
"layers": [
{
"id": 0,
"name": "Plan de bus PMR",
"parentLayerId": -1,
"defaultVisibility": true,
"subLayerIds": null,
"minScale": 0,
"maxScale": 0,
"type": "Raster Layer",
"supportsDynamicLegends": true
}
],
"tables": [],
"spatialReference": {
"wkid": 3949,
"latestWkid": 3949,
"xyTolerance": 0.001,
"zTolerance": 0.001,
"mTolerance": 0.001,
"falseX": -34427400,
"falseY": -22373000,
"xyUnits": 10000,
"falseZ": -100000,
"zUnits": 10000,
"falseM": -100000,
"mUnits": 10000
},
"singleFusedMapCache": true,
"tileInfo": {
"rows": 256,
"cols": 256,
"dpi": 96,
"format": "MIXED",
"compressionQuality": 75,
"origin": {
"x": -34427400,
"y": 49881800
},
"spatialReference": {
"wkid": 3949,
"latestWkid": 3949,
"xyTolerance": 0.001,
"zTolerance": 0.001,
"mTolerance": 0.001,
"falseX": -34427400,
"falseY": -22373000,
"xyUnits": 1.2465883587998292E8,
"falseZ": -100000,
"zUnits": 10000,
"falseM": -100000,
"mUnits": 10000
},
"lods": [
{
"level": 0,
"resolution": 23.812547625095252,
"scale": 90000
},
{
"level": 1,
"resolution": 22.48962831258996,
"scale": 85000
},
{
"level": 2,
"resolution": 21.16670900008467,
"scale": 80000
},
{
"level": 3,
"resolution": 19.843789687579378,
"scale": 75000
},
{
"level": 4,
"resolution": 18.520870375074086,
"scale": 70000
},
{
"level": 5,
"resolution": 17.197951062568794,
"scale": 65000
},
{
"level": 6,
"resolution": 15.875031750063501,
"scale": 60000
},
{
"level": 7,
"resolution": 14.55211243755821,
"scale": 55000
},
{
"level": 8,
"resolution": 13.229193125052918,
"scale": 50000
},
{
"level": 9,
"resolution": 11.906273812547626,
"scale": 45000
},
{
"level": 10,
"resolution": 10.583354500042335,
"scale": 40000
},
{
"level": 11,
"resolution": 9.260435187537043,
"scale": 35000
},
{
"level": 12,
"resolution": 7.9375158750317505,
"scale": 30000
},
{
"level": 13,
"resolution": 6.614596562526459,
"scale": 25000
},
{
"level": 14,
"resolution": 5.291677250021167,
"scale": 20000
},
{
"level": 15,
"resolution": 3.9687579375158752,
"scale": 15000
},
{
"level": 16,
"resolution": 2.6458386250105836,
"scale": 10000
},
{
"level": 17,
"resolution": 1.9843789687579376,
"scale": 7500
},
{
"level": 18,
"resolution": 1.3229193125052918,
"scale": 5000
},
{
"level": 19,
"resolution": 1.0583354500042335,
"scale": 4000
},
{
"level": 20,
"resolution": 0.6614596562526459,
"scale": 2500
},
{
"level": 21,
"resolution": 0.5291677250021167,
"scale": 2000
},
{
"level": 22,
"resolution": 0.39687579375158755,
"scale": 1500
},
{
"level": 23,
"resolution": 0.26458386250105836,
"scale": 1000
},
{
"level": 24,
"resolution": 0.19843789687579377,
"scale": 750
},
{
"level": 25,
"resolution": 0.13229193125052918,
"scale": 500
},
{
"level": 26,
"resolution": 0.0793751587503175,
"scale": 300
},
{
"level": 27,
"resolution": 0.05291677250021167,
"scale": 200
},
{
"level": 28,
"resolution": 0.026458386250105836,
"scale": 100
}
]
},
"storageInfo": {
"storageFormat": "esriMapCacheStorageModeCompactV2",
"packetSize": 128
},
"initialExtent": {
"xmin": 1603148.8688731212,
"ymin": 8148269.929556864,
"xmax": 1652354.1027763537,
"ymax": 8215174.8878857205,
"spatialReference": {
"wkid": 3949,
"latestWkid": 3949,
"xyTolerance": 0.001,
"zTolerance": 0.001,
"mTolerance": 0.001,
"falseX": -34427400,
"falseY": -22373000,
"xyUnits": 10000,
"falseZ": -100000,
"zUnits": 10000,
"falseM": -100000,
"mUnits": 10000
}
},
"fullExtent": {
"xmin": 1594325.3399559632,
"ymin": 8153959.073395371,
"xmax": 1658664.653925784,
"ymax": 8206201.187370867,
"spatialReference": {
"wkid": 3949,
"latestWkid": 3949,
"xyTolerance": 0.001,
"zTolerance": 0.001,
"mTolerance": 0.001,
"falseX": -34427400,
"falseY": -22373000,
"xyUnits": 10000,
"falseZ": -100000,
"zUnits": 10000,
"falseM": -100000,
"mUnits": 10000
}
},
"datesInUnknownTimezone": false,
"minScale": 90000,
"maxScale": 4000,
"minLOD": 0,
"maxLOD": 19,
"units": "esriMeters",
"supportedImageFormatTypes": "PNG32,PNG24,PNG,JPG,DIB,TIFF,EMF,PS,PDF,GIF,SVG,SVGZ,BMP",
"documentInfo": {
"Title": "MOB_PLAN_BUS_PMR_2022",
"Author": "",
"Comments": "",
"Subject": "",
"Category": "",
"Version": "3.3.0",
"AntialiasingMode": "Fast",
"TextAntialiasingMode": "None",
"Keywords": "transport,mobilités,bus,pmr,accessibilité"
},
"supportsQueryDomains": true,
"capabilities": "Map,Query,Data",
"supportedQueryFormats": "JSON, geoJSON, PBF",
"exportTilesAllowed": false,
"referenceScale": 0.0,
"supportsDatumTransformation": true,
"archivingInfo": {"supportsHistoricMoment": false},
"supportsClipping": true,
"supportsSpatialFilter": true,
"supportsTimeRelation": true,
"supportsQueryDataElements": true,
"mapUnits": {"uwkid": 9001},
"maxRecordCount": 2000,
"maxImageHeight": 4096,
"maxImageWidth": 4096,
"supportedExtensions": "",
"resampling": false,
"serviceItemId": "711daca9a81543d88b7a9eac5ef7f680"
}